BEGIN:VCALENDAR
VERSION:2.0
METHOD:PUBLISH
PRODID:-//Accessible Web Design//My Calendar//http://www.joedolson.com//v//EN';
BEGIN:VEVENT
UID:1511-1451
LOCATION:
SUMMARY:九州アマチュア予選練習ラウンド日
DTSTAMP:20260324T000000
ORGANIZER;CN=kgc:MAILTO:dev-email@flywheel.local
DTSTART:20260324T000000
DTEND:20260324T010000
CATEGORIES:aki1-nashi
URL;VALUE=URI:
DESCRIPTION;ENCODING=QUOTED-PRINTABLE: 
END:VEVENT
END:VCALENDAR