BEGIN:VCALENDAR
VERSION:2.0
METHOD:PUBLISH
PRODID:-//Accessible Web Design//My Calendar//http://www.joedolson.com//v//EN';
BEGIN:VEVENT
UID:144-85
LOCATION:
SUMMARY:ベントG更新作業の為
DTSTAMP:20230314T000000
ORGANIZER;CN=kgc:MAILTO:dev-email@flywheel.local
DTSTART:20230314T000000
DTEND:20230314T010000
CATEGORIES:aki3-ari
URL;VALUE=URI:
DESCRIPTION;ENCODING=QUOTED-PRINTABLE: 
END:VEVENT
END:VCALENDAR