BEGIN:VCALENDAR
VERSION:2.0
METHOD:PUBLISH
PRODID:-//Accessible Web Design//My Calendar//http://www.joedolson.com//v//EN';
BEGIN:VEVENT
UID:1374-1314
LOCATION:
SUMMARY:無題のイベント
DTSTAMP:20260806T000000
ORGANIZER;CN=kgc:MAILTO:dev-email@flywheel.local
DTSTART:20260806T000000
DTEND:20260806T010000
CATEGORIES:aki1-nashi
URL;VALUE=URI:
DESCRIPTION;ENCODING=QUOTED-PRINTABLE: 
END:VEVENT
END:VCALENDAR