BEGIN:VCALENDAR
VERSION:2.0
METHOD:PUBLISH
PRODID:-//Accessible Web Design//My Calendar//http://www.joedolson.com//v//EN';
BEGIN:VEVENT
UID:1223-1163
LOCATION:
SUMMARY:九州アマチュア選手権予選予備日（条件付き予約受付）
DTSTAMP:20260409T000000
ORGANIZER;CN=kgc:MAILTO:dev-email@flywheel.local
DTSTART:20260409T000000
DTEND:20260409T010000
CATEGORIES:aki3-ari
URL;VALUE=URI:
DESCRIPTION;ENCODING=QUOTED-PRINTABLE: 
END:VEVENT
END:VCALENDAR