BEGIN:VCALENDAR
VERSION:2.0
METHOD:PUBLISH
PRODID:-//Accessible Web Design//My Calendar//http://www.joedolson.com//v//EN';
BEGIN:VEVENT
UID:923-864
LOCATION:
SUMMARY:福岡トヨタ杯　18SF
DTSTAMP:20250309T000000
ORGANIZER;CN=kgc:MAILTO:dev-email@flywheel.local
DTSTART:20250309T000000
DTEND:20250309T010000
CATEGORIES:aki1-nashi
URL;VALUE=URI:
DESCRIPTION;ENCODING=QUOTED-PRINTABLE: 
END:VEVENT
END:VCALENDAR