BEGIN:VCALENDAR
VERSION:2.0
METHOD:PUBLISH
PRODID:-//Accessible Web Design//My Calendar//http://www.joedolson.com//v//EN';
BEGIN:VEVENT
UID:811-752
LOCATION:
SUMMARY:休場日
DTSTAMP:20250107
ORGANIZER;CN=kgc:MAILTO:dev-email@flywheel.local
DTSTART:20250107
DTEND:20250108
CATEGORIES:aki1-nashi
URL;VALUE=URI:
DESCRIPTION;ENCODING=QUOTED-PRINTABLE: 
X-FUNAMBOL-ALLDAY: 1
X-MICROSOFT-CDO-ALLDAYEVENT: TRUE

END:VEVENT
END:VCALENDAR