BEGIN:VCALENDAR
VERSION:2.0
METHOD:PUBLISH
PRODID:-//Accessible Web Design//My Calendar//http://www.joedolson.com//v//EN';
BEGIN:VEVENT
UID:789-730
LOCATION:
SUMMARY:※精励杯（総合委員会）18S   ﾊﾞﾐｭｰﾀﾞG営業
DTSTAMP:20241208T000000
ORGANIZER;CN=kgc:MAILTO:dev-email@flywheel.local
DTSTART:20241208T000000
DTEND:20241208T010000
CATEGORIES:aki2-wazuka
URL;VALUE=URI:
DESCRIPTION;ENCODING=QUOTED-PRINTABLE: 
END:VEVENT
END:VCALENDAR