BEGIN:VCALENDAR
VERSION:2.0
METHOD:PUBLISH
PRODID:-//Accessible Web Design//My Calendar//http://www.joedolson.com//v//EN';
BEGIN:VEVENT
UID:776-717
LOCATION:
SUMMARY:１月分予約開始日 会員のみ来場受付7時 電話受付9時30分  ﾊﾞﾐｭｰﾀﾞG営業
DTSTAMP:20241102T000000
ORGANIZER;CN=kgc:MAILTO:dev-email@flywheel.local
DTSTART:20241102T000000
DTEND:20241102T010000
CATEGORIES:aki2-wazuka
URL;VALUE=URI:
DESCRIPTION;ENCODING=QUOTED-PRINTABLE: 
END:VEVENT
END:VCALENDAR