BEGIN:VCALENDAR
VERSION:2.0
METHOD:PUBLISH
PRODID:-//Accessible Web Design//My Calendar//http://www.joedolson.com//v//EN';
BEGIN:VEVENT
UID:752-693
LOCATION:
SUMMARY:文化の日杯18S ﾊﾞﾐｭｰﾀﾞG営業
DTSTAMP:20241103T000000
ORGANIZER;CN=kgc:MAILTO:dev-email@flywheel.local
DTSTART:20241103T000000
DTEND:20241103T010000
CATEGORIES:aki2-wazuka
URL;VALUE=URI:
DESCRIPTION;ENCODING=QUOTED-PRINTABLE: 
END:VEVENT
END:VCALENDAR