BEGIN:VCALENDAR
VERSION:2.0
METHOD:PUBLISH
PRODID:-//Accessible Web Design//My Calendar//http://www.joedolson.com//v//EN';
BEGIN:VEVENT
UID:704-645
LOCATION:
SUMMARY:敬老の日杯（年令別）18S　ﾊﾞﾐｭｰﾀﾞG営業へ変更
DTSTAMP:20240916T000000
ORGANIZER;CN=kgc:MAILTO:dev-email@flywheel.local
DTSTART:20240916T000000
DTEND:20240916T010000
CATEGORIES:aki1-nashi
URL;VALUE=URI:
DESCRIPTION;ENCODING=QUOTED-PRINTABLE: 
END:VEVENT
END:VCALENDAR