BEGIN:VCALENDAR
VERSION:2.0
METHOD:PUBLISH
PRODID:-//Accessible Web Design//My Calendar//http://www.joedolson.com//v//EN';
BEGIN:VEVENT
UID:577-518
LOCATION:
SUMMARY:下関・古賀両クラブ親善競技（古賀GC 於）
DTSTAMP:20240512T000000
ORGANIZER;CN=kgc:MAILTO:dev-email@flywheel.local
DTSTART:20240512T000000
DTEND:20240512T010000
CATEGORIES:aki1-nashi
URL;VALUE=URI:
DESCRIPTION;ENCODING=QUOTED-PRINTABLE: 
END:VEVENT
END:VCALENDAR