BEGIN:VCALENDAR
VERSION:2.0
METHOD:PUBLISH
PRODID:-//Accessible Web Design//My Calendar//http://www.joedolson.com//v//EN';
BEGIN:VEVENT
UID:557-498
LOCATION:
SUMMARY:大会準備の為、最終スタートの制限あり
DTSTAMP:20240424T000000
ORGANIZER;CN=kgc:MAILTO:dev-email@flywheel.local
DTSTART:20240424T000000
DTEND:20240424T010000
CATEGORIES:aki2-wazuka
URL;VALUE=URI:
DESCRIPTION;ENCODING=QUOTED-PRINTABLE: 
END:VEVENT
END:VCALENDAR