BEGIN:VCALENDAR
VERSION:2.0
METHOD:PUBLISH
PRODID:-//Accessible Web Design//My Calendar//http://www.joedolson.com//v//EN';
BEGIN:VEVENT
UID:532-473
LOCATION:
SUMMARY:※キャプテン杯（予選１６人選出）18S
DTSTAMP:20240331T000000
ORGANIZER;CN=kgc:MAILTO:dev-email@flywheel.local
DTSTART:20240331T000000
DTEND:20240331T010000
CATEGORIES:aki1-nashi
URL;VALUE=URI:
DESCRIPTION;ENCODING=QUOTED-PRINTABLE: 
END:VEVENT
END:VCALENDAR