BEGIN:VCALENDAR
VERSION:2.0
METHOD:PUBLISH
PRODID:-//Accessible Web Design//My Calendar//http://www.joedolson.com//v//EN';
BEGIN:VEVENT
UID:494-435
LOCATION:
SUMMARY:耐寒杯　18S
DTSTAMP:20240218T000000
ORGANIZER;CN=kgc:MAILTO:dev-email@flywheel.local
DTSTART:20240218T000000
DTEND:20240218T010000
CATEGORIES:aki2-wazuka
URL;VALUE=URI:
DESCRIPTION;ENCODING=QUOTED-PRINTABLE: 
END:VEVENT
END:VCALENDAR