BEGIN:VCALENDAR
VERSION:2.0
METHOD:PUBLISH
PRODID:-//Accessible Web Design//My Calendar//http://www.joedolson.com//v//EN';
BEGIN:VEVENT
UID:434-375
LOCATION:
SUMMARY:開場記念杯（第１日目）　１２月分予約開始日　会員のみ来場受付7時　電話受付9時30分
DTSTAMP:20231007T000000
ORGANIZER;CN=kgc:MAILTO:dev-email@flywheel.local
DTSTART:20231007T000000
DTEND:20231007T010000
CATEGORIES:aki1-nashi
URL;VALUE=URI:
DESCRIPTION;ENCODING=QUOTED-PRINTABLE: 
END:VEVENT
END:VCALENDAR