BEGIN:VCALENDAR
VERSION:2.0
METHOD:PUBLISH
PRODID:-//Accessible Web Design//My Calendar//http://www.joedolson.com//v//EN';
BEGIN:VEVENT
UID:298-239
LOCATION:
SUMMARY:※理事長杯（予選16人選出）18S
DTSTAMP:20230827T000000
ORGANIZER;CN=kgc:MAILTO:dev-email@flywheel.local
DTSTART:20230827T000000
DTEND:20230827T010000
CATEGORIES:aki1-nashi
URL;VALUE=URI:
DESCRIPTION;ENCODING=QUOTED-PRINTABLE: 
END:VEVENT
END:VCALENDAR