BEGIN:VCALENDAR
VERSION:2.0
METHOD:PUBLISH
PRODID:-//Accessible Web Design//My Calendar//http://www.joedolson.com//v//EN';
BEGIN:VEVENT
UID:1535-1475
LOCATION:
SUMMARY:天皇誕生日杯　18S  【ﾍﾞﾝﾄG更新作業の為ﾊﾞﾐｭｰﾀﾞG使用】
DTSTAMP:20260223T000000
ORGANIZER;CN=kgc:MAILTO:dev-email@flywheel.local
DTSTART:20260223T000000
DTEND:20260223T010000
CATEGORIES:aki2-wazuka
URL;VALUE=URI:
DESCRIPTION;ENCODING=QUOTED-PRINTABLE: 
END:VEVENT
END:VCALENDAR