BEGIN:VCALENDAR
VERSION:2.0
METHOD:PUBLISH
PRODID:-//Accessible Web Design//My Calendar//http://www.joedolson.com//v//EN';
BEGIN:VEVENT
UID:1476-1416
LOCATION:
SUMMARY:※キャプテン杯（準･決勝戦）18M　月例杯（ﾊﾝﾃﾞｨ別）18S　一般枠なし
DTSTAMP:20260412T000000
ORGANIZER;CN=kgc:MAILTO:dev-email@flywheel.local
DTSTART:20260412T000000
DTEND:20260412T010000
CATEGORIES:aki1-nashi
URL;VALUE=URI:
DESCRIPTION;ENCODING=QUOTED-PRINTABLE: 
END:VEVENT
END:VCALENDAR