BEGIN:VCALENDAR
VERSION:2.0
METHOD:PUBLISH
PRODID:-//Accessible Web Design//My Calendar//http://www.joedolson.com//v//EN';
BEGIN:VEVENT
UID:1055-996
LOCATION:
SUMMARY:※島村杯（ｽｸﾗｯﾁ競技）18S　【ﾍﾞﾝﾄG使用予定ですがﾊﾞﾐｭｰﾀﾞGに変更になるかもしれません】
DTSTAMP:20250810T000000
ORGANIZER;CN=kgc:MAILTO:dev-email@flywheel.local
DTSTART:20250810T000000
DTEND:20250810T010000
CATEGORIES:aki2-wazuka
URL;VALUE=URI:
DESCRIPTION;ENCODING=QUOTED-PRINTABLE: 
END:VEVENT
END:VCALENDAR